BEGIN:VCALENDAR
VERSION:2.0
PRODID:spatie/icalendar-generator
DESCRIPTION:Events from Downtown Garner
X-WR-CALDESC:Events from Downtown Garner
REFRESH-INTERVAL;VALUE=DURATION:PT1440M
X-PUBLISHED-TTL:PT1440M
BEGIN:VTIMEZONE
TZID:America/New_York
BEGIN:STANDARD
DTSTART:20241103T020000Z
TZOFFSETFROM:-0400
TZOFFSETTO:-0500
END:STANDARD
BEGIN:DAYLIGHT
DTSTART:20250309T020000Z
TZOFFSETFROM:-0500
TZOFFSETTO:-0400
END:DAYLIGHT
BEGIN:STANDARD
DTSTART:20251102T020000Z
TZOFFSETFROM:-0400
TZOFFSETTO:-0500
END:STANDARD
END:VTIMEZONE
BEGIN:VTIMEZONE
TZID:UTC
BEGIN:STANDARD
DTSTART:20250726T112247Z
TZOFFSETFROM:+0000
TZOFFSETTO:+0000
END:STANDARD
END:VTIMEZONE
BEGIN:VEVENT
UID:61-15
DTSTAMP:20260422T112247Z
SUMMARY:GROOVIN' in GARNER Welcomes The Antique Outlaws
LOCATION:Garner Recreation Center 215 W Main Street  Garner NC 27529
ORGANIZER;CN=DowntownGarner:MAILTO:awood@garnernc.gov
DTSTART;TZID=America/New_York:20250620T183000
DTEND;TZID=America/New_York:20250620T213000
X-ALT-DESC;FMTTYPE=TEXT/HTML:Come on Garner\, Let's GROOVE tonight!! Downto
 wn Garner proudly presents the Downtown Concert Series!! Tonight's Concert
  Features The Antique Outlaws (click to hear a snippet). We are revamping
  a favorite among locals and visitors alike\, with our FREE concert series
  featuring local and regional party bands playing classic rock and pop\, 7
 0s\, 80s\, and 90s hits\,&amp;hellip\;
CATEGORIES:Downtown Garner Association
URL;VALUE=URI:https://downtowngarner.com/my-calendar/?mc_id=61&#038;vcal=61
METHOD:PUBLISH
END:VEVENT
END:VCALENDAR