BEGIN:VCALENDAR
VERSION:2.0
PRODID:spatie/icalendar-generator
DESCRIPTION:Events from Downtown Garner
X-WR-CALDESC:Events from Downtown Garner
REFRESH-INTERVAL;VALUE=DURATION:PT1440M
X-PUBLISHED-TTL:PT1440M
BEGIN:VTIMEZONE
TZID:America/New_York
BEGIN:STANDARD
DTSTART:20251102T020000Z
TZOFFSETFROM:-0400
TZOFFSETTO:-0500
END:STANDARD
BEGIN:DAYLIGHT
DTSTART:20260308T020000Z
TZOFFSETFROM:-0500
TZOFFSETTO:-0400
END:DAYLIGHT
BEGIN:STANDARD
DTSTART:20261101T020000Z
TZOFFSETFROM:-0400
TZOFFSETTO:-0500
END:STANDARD
END:VTIMEZONE
BEGIN:VTIMEZONE
TZID:UTC
BEGIN:STANDARD
DTSTART:20250726T112603Z
TZOFFSETFROM:+0000
TZOFFSETTO:+0000
END:STANDARD
END:VTIMEZONE
BEGIN:VEVENT
UID:272-79
DTSTAMP:20260422T112603Z
SUMMARY:Let's Celebrate Small Business Week
LOCATION:Downtown Garner 120 E Main St Garner\, NC 27529  Garner NC 27529
ORGANIZER;CN=DowntownGarner:MAILTO:awood@garnernc.gov
DTSTART;TZID=America/New_York;VALUE=DATE:20260503
DTEND;TZID=America/New_York;VALUE=DATE:20260510
X-ALT-DESC;FMTTYPE=TEXT/HTML:Garner Small Business Week... Calling all Smal
 l Business Owners and our Community! It's time to celebrate YOU!! Join us 
 all week to celebrate Garner small businesses! (T) 5/5: Ribbon Cutting - 1
 2:00pm (Meet at corner of Purvis Street and Main Street) (Th) 5/7: Small B
 iz Social - 5:30pm (Meet at Gearworks Office - 120 E&amp;hellip\;
CATEGORIES:Downtown Garner Association
URL;VALUE=URI:https://downtowngarner.com/my-calendar/?mc_id=272&#038;vcal=2
 72
METHOD:PUBLISH
END:VEVENT
END:VCALENDAR