BEGIN:VCALENDAR
VERSION:2.0
PRODID:spatie/icalendar-generator
DESCRIPTION:Events from Downtown Garner
X-WR-CALDESC:Events from Downtown Garner
REFRESH-INTERVAL;VALUE=DURATION:PT1440M
X-PUBLISHED-TTL:PT1440M
BEGIN:VTIMEZONE
TZID:America/New_York
BEGIN:STANDARD
DTSTART:20251102T020000Z
TZOFFSETFROM:-0400
TZOFFSETTO:-0500
END:STANDARD
BEGIN:DAYLIGHT
DTSTART:20260308T020000Z
TZOFFSETFROM:-0500
TZOFFSETTO:-0400
END:DAYLIGHT
END:VTIMEZONE
BEGIN:VTIMEZONE
TZID:UTC
BEGIN:STANDARD
DTSTART:20250726T124601Z
TZOFFSETFROM:+0000
TZOFFSETTO:+0000
END:STANDARD
END:VTIMEZONE
BEGIN:VEVENT
UID:269-124
DTSTAMP:20260422T124601Z
SUMMARY:Sip &amp;amp\; Stitch Club
LOCATION:Steep Right Up 111 W Main St\, #200  Garner NC 27529
ORGANIZER;CN=DowntownGarner:MAILTO:awood@garnernc.gov
DTSTART;TZID=America/New_York:20260426T140000
DTEND;TZID=America/New_York:20260426T160000
X-ALT-DESC;FMTTYPE=TEXT/HTML:Loops - Laughs - Tea Join us for The Sip &amp;amp\
 ; Stitch Crochet Club\, a relaxed\, friendly gathering for crocheters of a
 ll experience levels. Whether you’re brand new to crochet or have years 
 of stitches under your belt\, you’re welcome here. 🧶 What to bring: 
 • Your current WIP (work in progress) • Any tools&amp;hellip\;
CATEGORIES:DT Business
URL;VALUE=URI:https://downtowngarner.com/my-calendar/?mc_id=269&#038;vcal=2
 69
METHOD:PUBLISH
END:VEVENT
END:VCALENDAR