BEGIN:VCALENDAR
VERSION:2.0
PRODID:spatie/icalendar-generator
DESCRIPTION:Events from Downtown Garner
X-WR-CALDESC:Events from Downtown Garner
REFRESH-INTERVAL;VALUE=DURATION:PT1440M
X-PUBLISHED-TTL:PT1440M
BEGIN:VTIMEZONE
TZID:America/New_York
BEGIN:STANDARD
DTSTART:20251102T020000Z
TZOFFSETFROM:-0400
TZOFFSETTO:-0500
END:STANDARD
BEGIN:DAYLIGHT
DTSTART:20260308T020000Z
TZOFFSETFROM:-0500
TZOFFSETTO:-0400
END:DAYLIGHT
END:VTIMEZONE
BEGIN:VTIMEZONE
TZID:UTC
BEGIN:STANDARD
DTSTART:20250726T100202Z
TZOFFSETFROM:+0000
TZOFFSETTO:+0000
END:STANDARD
END:VTIMEZONE
BEGIN:VEVENT
UID:260-116
DTSTAMP:20260422T100202Z
SUMMARY:Line Dancing Lessons + Boots &amp;amp\; Bubbles Pop-Up Market
LOCATION:Zin Yoga Studio &amp;amp\; Wine Lounge 104 Rand Mill Rd.  Garner NC 27
 529
ORGANIZER;CN=DowntownGarner:MAILTO:awood@garnernc.gov
DTSTART;TZID=America/New_York:20260328T183000
DTEND;TZID=America/New_York:20260328T193000
X-ALT-DESC;FMTTYPE=TEXT/HTML:Five Hearts Horse Therapy Fundraiser Boots &amp;am
 p\; Bubbles Pop-up Market with local vendors Pictures with horses Local fo
 od truck Free Line Dancing lessons + social with Raquel Have you ever want
 ed to line dance? Do you currently line dance? Check out this special nigh
 t of line dance beginner instruction with social dancing mixed throughout!
  Sponsored&amp;hellip\;
CATEGORIES:DT Business
URL;VALUE=URI:https://downtowngarner.com/my-calendar/?mc_id=260&#038;vcal=2
 60
METHOD:PUBLISH
END:VEVENT
END:VCALENDAR