BEGIN:VCALENDAR
VERSION:2.0
PRODID:spatie/icalendar-generator
DESCRIPTION:Events from Downtown Garner
X-WR-CALDESC:Events from Downtown Garner
REFRESH-INTERVAL;VALUE=DURATION:PT1440M
X-PUBLISHED-TTL:PT1440M
BEGIN:VTIMEZONE
TZID:America/New_York
BEGIN:STANDARD
DTSTART:20251102T020000Z
TZOFFSETFROM:-0400
TZOFFSETTO:-0500
END:STANDARD
BEGIN:DAYLIGHT
DTSTART:20260308T020000Z
TZOFFSETFROM:-0500
TZOFFSETTO:-0400
END:DAYLIGHT
END:VTIMEZONE
BEGIN:VTIMEZONE
TZID:UTC
BEGIN:STANDARD
DTSTART:20250726T084716Z
TZOFFSETFROM:+0000
TZOFFSETTO:+0000
END:STANDARD
END:VTIMEZONE
BEGIN:VEVENT
UID:253-111
DTSTAMP:20260422T084716Z
SUMMARY:Book Club
LOCATION:Zin Yoga Studio &amp;amp\; Wine Lounge 104 Rand Mill Rd.  Garner NC 27
 529
ORGANIZER;CN=DowntownGarner:MAILTO:awood@garnernc.gov
DTSTART;TZID=America/New_York:20260304T183000
DTEND;TZID=America/New_York:20260304T200000
X-ALT-DESC;FMTTYPE=TEXT/HTML:Looking for a book club to join?  Our little 
 group just might be the right fit for you!  The Zin Book Club has chosen
  Oona Out of Order\, a novel by Margarita Montimore\, as its February boo
 k. On New Year's Eve 1982\, Oona Lockhart has her whole life before her. 
 At the stroke of midnight she will turn&amp;hellip\;
CATEGORIES:DT Business
URL;VALUE=URI:https://downtowngarner.com/my-calendar/?mc_id=253&#038;vcal=2
 53
METHOD:PUBLISH
END:VEVENT
END:VCALENDAR