BEGIN:VCALENDAR
VERSION:2.0
PRODID:spatie/icalendar-generator
DESCRIPTION:Events from Downtown Garner
X-WR-CALDESC:Events from Downtown Garner
REFRESH-INTERVAL;VALUE=DURATION:PT1440M
X-PUBLISHED-TTL:PT1440M
BEGIN:VTIMEZONE
TZID:America/New_York
BEGIN:STANDARD
DTSTART:20251102T020000Z
TZOFFSETFROM:-0400
TZOFFSETTO:-0500
END:STANDARD
BEGIN:DAYLIGHT
DTSTART:20260308T020000Z
TZOFFSETFROM:-0500
TZOFFSETTO:-0400
END:DAYLIGHT
END:VTIMEZONE
BEGIN:VTIMEZONE
TZID:UTC
BEGIN:STANDARD
DTSTART:20250726T084905Z
TZOFFSETFROM:+0000
TZOFFSETTO:+0000
END:STANDARD
END:VTIMEZONE
BEGIN:VEVENT
UID:242-100
DTSTAMP:20260422T084905Z
SUMMARY:Garner's Showcase of Talent
LOCATION:Garner Performing Arts Center 742 W Garner Rd
ORGANIZER;CN=DowntownGarner:MAILTO:awood@garnernc.gov
DTSTART;TZID=America/New_York:20260307T190000
DTEND;TZID=America/New_York:20260307T210000
X-ALT-DESC;FMTTYPE=TEXT/HTML:Garner’s got talent! Come enjoy locals as th
 ey take the stage to sing\, dance\, and more in this FREE show. Scotty McC
 reery\, Arlie Honeycutt\, and many others honed their skills at the Garner
  Showcase of Talent prior to dazzling bigger stages. Make sure you’re in
  the audience for this Garner tradition!
CATEGORIES:Town of Garner
URL;VALUE=URI:https://downtowngarner.com/my-calendar/?mc_id=242&#038;vcal=2
 42
METHOD:PUBLISH
END:VEVENT
END:VCALENDAR