BEGIN:VCALENDAR
VERSION:2.0
PRODID:spatie/icalendar-generator
DESCRIPTION:Events from Downtown Garner
X-WR-CALDESC:Events from Downtown Garner
REFRESH-INTERVAL;VALUE=DURATION:PT1440M
X-PUBLISHED-TTL:PT1440M
BEGIN:VTIMEZONE
TZID:America/New_York
BEGIN:STANDARD
DTSTART:20251102T020000Z
TZOFFSETFROM:-0400
TZOFFSETTO:-0500
END:STANDARD
BEGIN:DAYLIGHT
DTSTART:20260308T020000Z
TZOFFSETFROM:-0500
TZOFFSETTO:-0400
END:DAYLIGHT
END:VTIMEZONE
BEGIN:VTIMEZONE
TZID:UTC
BEGIN:STANDARD
DTSTART:20250726T084429Z
TZOFFSETFROM:+0000
TZOFFSETTO:+0000
END:STANDARD
END:VTIMEZONE
BEGIN:VEVENT
UID:190-73
DTSTAMP:20260422T084429Z
SUMMARY:LaunchGARNER
LOCATION:Garner Chamber of Commerce 401 Circle Dr.  Garner NC 27529
ORGANIZER;CN=DowntownGarner:MAILTO:awood@garnernc.gov
RRULE:FREQ=WEEKLY;UNTIL=20260326T000000Z
DTSTART;TZID=America/New_York:20260319T173000
DTEND;TZID=America/New_York:20260319T210000
X-ALT-DESC;FMTTYPE=TEXT/HTML:LaunchGarner is part of the LaunchMyCity fam
 ily of programs\, modeled after LaunchDETROIT and LaunchRALEIGH.  We s
 trive to develop successful local entrepreneurs by expanding access to com
 prehensive business training\, and financial and business resources. This 
 10-week class is provided free of charge to our students through our partn
 ership with Wake Technical Community College and the Entrepreneurship &amp;amp
 \; Small Business Center. Other&amp;hellip\;
CATEGORIES:Downtown Garner Association
URL;VALUE=URI:https://downtowngarner.com/my-calendar/?mc_id=190&#038;vcal=1
 90
METHOD:PUBLISH
END:VEVENT
END:VCALENDAR