BEGIN:VCALENDAR
VERSION:2.0
PRODID:spatie/icalendar-generator
DESCRIPTION:Events from Downtown Garner
X-WR-CALDESC:Events from Downtown Garner
REFRESH-INTERVAL;VALUE=DURATION:PT1440M
X-PUBLISHED-TTL:PT1440M
BEGIN:VTIMEZONE
TZID:America/New_York
BEGIN:DAYLIGHT
DTSTART:20250309T020000Z
TZOFFSETFROM:-0500
TZOFFSETTO:-0400
END:DAYLIGHT
BEGIN:STANDARD
DTSTART:20251102T020000Z
TZOFFSETFROM:-0400
TZOFFSETTO:-0500
END:STANDARD
BEGIN:DAYLIGHT
DTSTART:20260308T020000Z
TZOFFSETFROM:-0500
TZOFFSETTO:-0400
END:DAYLIGHT
END:VTIMEZONE
BEGIN:VTIMEZONE
TZID:UTC
BEGIN:STANDARD
DTSTART:20250726T083810Z
TZOFFSETFROM:+0000
TZOFFSETTO:+0000
END:STANDARD
END:VTIMEZONE
BEGIN:VEVENT
UID:125-41
DTSTAMP:20260422T083810Z
SUMMARY:Hank &amp;amp\; My Honky Tonk Heroes: 100 Years of Hank Williams
LOCATION:Garner Performing Arts Center 742 W Garner Rd
ORGANIZER;CN=DowntownGarner:MAILTO:awood@garnernc.gov
DTSTART;TZID=America/New_York:20250927T193000
DTEND;TZID=America/New_York:20250927T213000
X-ALT-DESC;FMTTYPE=TEXT/HTML:Hank and My Honky Tonk Heroes: 100 Years of Ha
 nk Williams is a toe-tappin'\, heartstring-pullin'\, celebration of the le
 gendary Hank Williams and his timeless influence on country music. Starrin
 g award-winning Jason Petty\, who famously brought the role to life in a h
 ighly acclaimed off-Broadway show\, this show is a must-see for all countr
 y music fans!&amp;hellip\;
CATEGORIES:Town of Garner
URL;VALUE=URI:https://downtowngarner.com/my-calendar/?mc_id=125&#038;vcal=1
 25
METHOD:PUBLISH
END:VEVENT
END:VCALENDAR